BEGIN:VCALENDAR
VERSION:2.0
PRODID:-//Fundación Oncoayuda - ECPv6.15.20//NONSGML v1.0//EN
CALSCALE:GREGORIAN
METHOD:PUBLISH
X-WR-CALNAME:Fundación Oncoayuda
X-ORIGINAL-URL:https://www.fundaciononcoayuda.com
X-WR-CALDESC:Eventos para Fundación Oncoayuda
REFRESH-INTERVAL;VALUE=DURATION:PT1H
X-Robots-Tag:noindex
X-PUBLISHED-TTL:PT1H
BEGIN:VTIMEZONE
TZID:Europe/Paris
BEGIN:DAYLIGHT
TZOFFSETFROM:+0100
TZOFFSETTO:+0200
TZNAME:CEST
DTSTART:20250330T010000
END:DAYLIGHT
BEGIN:STANDARD
TZOFFSETFROM:+0200
TZOFFSETTO:+0100
TZNAME:CET
DTSTART:20251026T010000
END:STANDARD
BEGIN:DAYLIGHT
TZOFFSETFROM:+0100
TZOFFSETTO:+0200
TZNAME:CEST
DTSTART:20260329T010000
END:DAYLIGHT
BEGIN:STANDARD
TZOFFSETFROM:+0200
TZOFFSETTO:+0100
TZNAME:CET
DTSTART:20261025T010000
END:STANDARD
BEGIN:DAYLIGHT
TZOFFSETFROM:+0100
TZOFFSETTO:+0200
TZNAME:CEST
DTSTART:20270328T010000
END:DAYLIGHT
BEGIN:STANDARD
TZOFFSETFROM:+0200
TZOFFSETTO:+0100
TZNAME:CET
DTSTART:20271031T010000
END:STANDARD
END:VTIMEZONE
BEGIN:VEVENT
DTSTART;TZID=Europe/Paris:20260424T103000
DTEND;TZID=Europe/Paris:20260424T103000
DTSTAMP:20260424T101550
CREATED:20260318T135132Z
LAST-MODIFIED:20260324T144811Z
UID:8048-1777026600-1777026600@www.fundaciononcoayuda.com
SUMMARY:Visita Museo Casa de la Moneda (AFORO COMPLETO)
DESCRIPTION:🪙¿Te apetece descubrir un museo diferente\, lleno de historia y curiosidades? \nEl 24 de abril visitamos el Museo Casa de la Moneda\, considerado uno de los más importantes del mundo en su género. Un lugar único para asomarnos al universo del dinero: monedas\, medallas\, grabados\, dibujos y libros antiguos que cuentan mucho más que cifras. \nSus orígenes se remontan al siglo XVIII y están ligados a la figura de Tomás Francisco Prieto\, Grabador General de las Casas de Moneda de Carlos III\, que impulsó una Escuela de Grabado en 1771. La colección que reunió para formar a sus alumnos se convirtió\, tras su muerte\, en el primer gran fondo del museo\, que con los años ha seguido creciendo con adquisiciones\, donaciones y piezas creadas en la FNMT. \nUna visita para mirar de cerca la artesanía del grabado\, la historia de nuestras monedas… y cómo el arte también se esconde en los detalles ✨ \n📅 Viernes 24 de abril de 2026. \n⌚ 10:30 hs. \n📍 Museo Casa de la Moneda (Madrid) \n⚠️ ¡PLAZAS LIMITADAS! CONFIRMA TU RESERVA AHORA \n*Recuerda llegar 10 minutos antes para organizar el grupo. \nContactar por WhatsApp
URL:https://www.fundaciononcoayuda.com/event/visita-museo-casa-de-la-moneda/
LOCATION:Museo Casa de la Moneda (Madrid)\, Museo Casa de la Moneda\, Madrid\, Madrid\, Spain
ATTACH;FMTTYPE=image/jpeg:https://www.fundaciononcoayuda.com/wp-content/uploads/2026/03/Museo-casa-de-la-moneda.jpg
END:VEVENT
END:VCALENDAR